Package: BUScorrect Version: 1.26.0 Command: /home/biocbuild/R/R/bin/R CMD build --keep-empty-dirs --no-resave-data BUScorrect StartedAt: 2025-10-13 23:18:12 -0000 (Mon, 13 Oct 2025) EndedAt: 2025-10-13 23:21:38 -0000 (Mon, 13 Oct 2025) EllapsedTime: 206.1 seconds RetCode: 0 Status: OK PackageFile: BUScorrect_1.26.0.tar.gz PackageFileSize: 3.509 MiB