Package: BUScorrect Version: 1.28.0 Command: /Library/Frameworks/R.framework/Resources/bin/R CMD INSTALL BUScorrect StartedAt: 2025-11-10 15:11:49 -0500 (Mon, 10 Nov 2025) EndedAt: 2025-11-10 15:11:57 -0500 (Mon, 10 Nov 2025) EllapsedTime: 7.9 seconds RetCode: 0 Status: OK