Package: BUS Version: 1.66.0 Command: /home/biocbuild/bbs-3.22-bioc/R/bin/R CMD build --keep-empty-dirs --no-resave-data --md5 BUS StartedAt: 2025-11-11 16:40:42 -0500 (Tue, 11 Nov 2025) EndedAt: 2025-11-11 16:40:49 -0500 (Tue, 11 Nov 2025) EllapsedTime: 7.0 seconds RetCode: 0 Status: OK PackageFile: BUS_1.66.0.tar.gz PackageFileSize: 2.824 MiB