Package: BUMHMM Version: 1.34.0 Command: /home/biocbuild/bbs-3.22-bioc/R/bin/R CMD INSTALL BUMHMM StartedAt: 2025-11-11 15:35:11 -0500 (Tue, 11 Nov 2025) EndedAt: 2025-11-11 15:35:35 -0500 (Tue, 11 Nov 2025) EllapsedTime: 24.3 seconds RetCode: 0 Status: OK