Package: BSgenomeForge Version: 1.10.0 Command: /home/biocbuild/bbs-3.22-bioc/R/bin/R CMD INSTALL BSgenomeForge StartedAt: 2025-11-02 15:38:42 -0500 (Sun, 02 Nov 2025) EndedAt: 2025-11-02 15:39:31 -0500 (Sun, 02 Nov 2025) EllapsedTime: 49.4 seconds RetCode: 0 Status: OK