Package: BSgenomeForge Version: 1.10.0 Command: /home/biocbuild/bbs-3.22-bioc/R/bin/R CMD build --keep-empty-dirs --no-resave-data --md5 BSgenomeForge StartedAt: 2025-11-02 16:50:08 -0500 (Sun, 02 Nov 2025) EndedAt: 2025-11-02 16:50:59 -0500 (Sun, 02 Nov 2025) EllapsedTime: 51.1 seconds RetCode: 0 Status: OK PackageFile: BSgenomeForge_1.10.0.tar.gz PackageFileSize: 700.4 KiB