Package: BREW3R.r Version: 1.6.0 Command: /home/biocbuild/bbs-3.22-bioc/R/bin/R CMD check --install=check:BREW3R.r.install-out.txt --library=/home/biocbuild/bbs-3.22-bioc/R/site-library --timings BREW3R.r_1.6.0.tar.gz StartedAt: 2025-11-11 21:47:40 -0500 (Tue, 11 Nov 2025) EndedAt: 2025-11-11 21:49:24 -0500 (Tue, 11 Nov 2025) EllapsedTime: 103.1 seconds RetCode: 0 Status: OK CheckDir: BREW3R.r.Rcheck Warnings: 0