Package: BREW3R.r Version: 1.6.0 Command: /home/biocbuild/bbs-3.22-bioc/R/bin/R CMD build --keep-empty-dirs --no-resave-data --md5 BREW3R.r StartedAt: 2025-11-11 16:39:22 -0500 (Tue, 11 Nov 2025) EndedAt: 2025-11-11 16:39:55 -0500 (Tue, 11 Nov 2025) EllapsedTime: 33.0 seconds RetCode: 0 Status: OK PackageFile: BREW3R.r_1.6.0.tar.gz PackageFileSize: 1.888 MiB