Package: BREW3R.r Version: 1.4.0 Command: /home/biocbuild/R/R/bin/R CMD INSTALL BREW3R.r StartedAt: 2025-09-29 20:35:49 -0000 (Mon, 29 Sep 2025) EndedAt: 2025-09-29 20:36:02 -0000 (Mon, 29 Sep 2025) EllapsedTime: 12.6 seconds RetCode: 0 Status: OK