Package: BREW3R.r Version: 1.4.0 Command: /home/biocbuild/R/R/bin/R CMD build --keep-empty-dirs --no-resave-data BREW3R.r StartedAt: 2025-09-29 23:15:03 -0000 (Mon, 29 Sep 2025) EndedAt: 2025-09-29 23:15:52 -0000 (Mon, 29 Sep 2025) EllapsedTime: 49.0 seconds RetCode: 0 Status: OK PackageFile: BREW3R.r_1.4.0.tar.gz PackageFileSize: 1.906 MiB