Package: BREW3R.r Version: 1.4.0 Command: /Library/Frameworks/R.framework/Resources/bin/R CMD build --keep-empty-dirs --no-resave-data BREW3R.r StartedAt: 2025-10-13 20:19:33 -0400 (Mon, 13 Oct 2025) EndedAt: 2025-10-13 20:20:18 -0400 (Mon, 13 Oct 2025) EllapsedTime: 44.6 seconds RetCode: 0 Status: OK PackageFile: BREW3R.r_1.4.0.tar.gz PackageFileSize: 1.901 MiB