Package: BREW3R.r Version: 1.6.0 Maintainer: Lucille Lopez-Delisle MaintainerEmail: lucille.delisle at epfl.ch git_url: https://git.bioconductor.org/packages/BREW3R.r git_branch: RELEASE_3_22 git_last_commit: d8919db git_last_commit_date: 2025-10-29 11:29:29 -0400 (Wed, 29 Oct 2025)