Package: BRAIN Version: 1.56.0 Command: /home/biocbuild/bbs-3.22-bioc/R/bin/R CMD INSTALL BRAIN StartedAt: 2025-11-14 15:26:53 -0500 (Fri, 14 Nov 2025) EndedAt: 2025-11-14 15:27:04 -0500 (Fri, 14 Nov 2025) EllapsedTime: 11.6 seconds RetCode: 0 Status: OK