Package: BPRMeth Version: 1.36.0 Command: /home/biocbuild/bbs-3.22-bioc/R/bin/R CMD check --install=check:BPRMeth.install-out.txt --library=/home/biocbuild/bbs-3.22-bioc/R/site-library --timings BPRMeth_1.36.0.tar.gz StartedAt: 2025-11-16 21:48:25 -0500 (Sun, 16 Nov 2025) EndedAt: 2025-11-16 21:51:02 -0500 (Sun, 16 Nov 2025) EllapsedTime: 156.3 seconds RetCode: 1 Status: ERROR CheckDir: BPRMeth.Rcheck Warnings: NA