Package: BPRMeth Version: 1.36.0 Command: /Library/Frameworks/R.framework/Resources/bin/R CMD build --keep-empty-dirs --no-resave-data BPRMeth StartedAt: 2025-11-03 16:17:50 -0500 (Mon, 03 Nov 2025) EndedAt: 2025-11-03 16:19:23 -0500 (Mon, 03 Nov 2025) EllapsedTime: 93.5 seconds RetCode: 0 Status: OK PackageFile: BPRMeth_1.36.0.tar.gz PackageFileSize: 3.274 MiB