Package: BPRMeth Version: 1.36.0 Command: rm -rf BPRMeth.buildbin-libdir && mkdir BPRMeth.buildbin-libdir && /Users/biocbuild/BBS/utils/build-universal.sh BPRMeth_1.36.0.tar.gz /Library/Frameworks/R.framework/Resources/bin/R BPRMeth.buildbin-libdir StartedAt: 2025-11-04 01:30:24 -0500 (Tue, 04 Nov 2025) EndedAt: 2025-11-04 01:31:02 -0500 (Tue, 04 Nov 2025) EllapsedTime: 38.3 seconds RetCode: 0 Status: OK PackageFile: BPRMeth_1.36.0.tgz PackageFileSize: 3.793 MiB