Package: BPRMeth Version: 1.34.0 Command: /home/biocbuild/R/R/bin/R CMD INSTALL BPRMeth StartedAt: 2025-10-13 20:28:16 -0000 (Mon, 13 Oct 2025) EndedAt: 2025-10-13 20:28:59 -0000 (Mon, 13 Oct 2025) EllapsedTime: 42.8 seconds RetCode: 0 Status: OK