Package: BPRMeth Version: 1.34.0 Command: /home/biocbuild/R/R/bin/R CMD build --keep-empty-dirs --no-resave-data BPRMeth StartedAt: 2025-10-13 23:15:08 -0000 (Mon, 13 Oct 2025) EndedAt: 2025-10-13 23:17:18 -0000 (Mon, 13 Oct 2025) EllapsedTime: 130.0 seconds RetCode: 0 Status: OK PackageFile: BPRMeth_1.34.0.tar.gz PackageFileSize: 3.186 MiB