Package: BOBaFIT Version: 1.14.0 Command: /home/biocbuild/bbs-3.22-bioc/R/bin/R CMD INSTALL BOBaFIT StartedAt: 2025-11-11 15:51:32 -0500 (Tue, 11 Nov 2025) EndedAt: 2025-11-11 15:52:22 -0500 (Tue, 11 Nov 2025) EllapsedTime: 49.3 seconds RetCode: 0 Status: OK