Package: BOBaFIT Version: 1.14.0 Command: /home/biocbuild/bbs-3.22-bioc/R/bin/R CMD check --install=check:BOBaFIT.install-out.txt --library=/home/biocbuild/bbs-3.22-bioc/R/site-library --timings BOBaFIT_1.14.0.tar.gz StartedAt: 2025-11-13 21:42:45 -0500 (Thu, 13 Nov 2025) EndedAt: 2025-11-13 21:50:37 -0500 (Thu, 13 Nov 2025) EllapsedTime: 471.6 seconds RetCode: 0 Status: WARNINGS CheckDir: BOBaFIT.Rcheck Warnings: 1