Package: BOBaFIT Version: 1.12.0 Command: /home/biocbuild/bbs-3.21-bioc/R/bin/R CMD INSTALL BOBaFIT StartedAt: 2025-10-15 15:47:08 -0400 (Wed, 15 Oct 2025) EndedAt: 2025-10-15 15:47:59 -0400 (Wed, 15 Oct 2025) EllapsedTime: 50.6 seconds RetCode: 0 Status: OK