Package: BOBaFIT Version: 1.12.0 Command: /Library/Frameworks/R.framework/Resources/bin/R CMD build --keep-empty-dirs --no-resave-data BOBaFIT StartedAt: 2025-10-13 20:16:07 -0400 (Mon, 13 Oct 2025) EndedAt: 2025-10-13 20:18:10 -0400 (Mon, 13 Oct 2025) EllapsedTime: 123.3 seconds RetCode: 0 Status: OK PackageFile: BOBaFIT_1.12.0.tar.gz PackageFileSize: 2.496 MiB