Package: BOBaFIT Version: 1.12.0 Command: rm -rf BOBaFIT.buildbin-libdir && mkdir BOBaFIT.buildbin-libdir && /Users/biocbuild/BBS/utils/build-universal.sh BOBaFIT_1.12.0.tar.gz /Library/Frameworks/R.framework/Resources/bin/R BOBaFIT.buildbin-libdir StartedAt: 2025-10-15 17:38:52 -0400 (Wed, 15 Oct 2025) EndedAt: 2025-10-15 17:40:01 -0400 (Wed, 15 Oct 2025) EllapsedTime: 69.0 seconds RetCode: 0 Status: OK PackageFile: BOBaFIT_1.12.0.tgz PackageFileSize: 2.443 MiB