Package: BLMA Version: 1.32.0 Command: /home/biocbuild/bbs-3.21-bioc/R/bin/R CMD build --keep-empty-dirs --no-resave-data BLMA StartedAt: 2025-10-15 16:29:20 -0400 (Wed, 15 Oct 2025) EndedAt: 2025-10-15 16:33:25 -0400 (Wed, 15 Oct 2025) EllapsedTime: 245.3 seconds RetCode: 0 Status: OK PackageFile: BLMA_1.32.0.tar.gz PackageFileSize: 2.826 MiB