Package: BLMA Version: 1.32.0 Command: /Library/Frameworks/R.framework/Resources/bin/R CMD INSTALL BLMA StartedAt: 2025-10-13 15:51:50 -0400 (Mon, 13 Oct 2025) EndedAt: 2025-10-13 15:52:13 -0400 (Mon, 13 Oct 2025) EllapsedTime: 22.8 seconds RetCode: 0 Status: OK