Package: BLMA Version: 1.32.0 Command: /Library/Frameworks/R.framework/Resources/bin/R CMD build --keep-empty-dirs --no-resave-data BLMA StartedAt: 2025-10-13 20:13:02 -0400 (Mon, 13 Oct 2025) EndedAt: 2025-10-13 20:18:10 -0400 (Mon, 13 Oct 2025) EllapsedTime: 308.5 seconds RetCode: 0 Status: OK PackageFile: BLMA_1.32.0.tar.gz PackageFileSize: 2.826 MiB