Package: BLMA Version: 1.34.0 Maintainer: Van-Dung Pham MaintainerEmail: dvp0001 at auburn.edu git_url: https://git.bioconductor.org/packages/BLMA git_branch: RELEASE_3_22 git_last_commit: 32ae9d5 git_last_commit_date: 2025-10-29 10:38:21 -0400 (Wed, 29 Oct 2025)