Package: BG2 Version: 1.10.0 Command: /home/biocbuild/bbs-3.22-bioc/R/bin/R CMD build --keep-empty-dirs --no-resave-data --md5 BG2 StartedAt: 2025-11-11 16:30:32 -0500 (Tue, 11 Nov 2025) EndedAt: 2025-11-11 16:39:56 -0500 (Tue, 11 Nov 2025) EllapsedTime: 563.5 seconds RetCode: 0 Status: OK PackageFile: BG2_1.10.0.tar.gz PackageFileSize: 1.131 MiB