Package: BG2 Version: 1.8.0 Command: /home/biocbuild/R/R/bin/R CMD INSTALL BG2 StartedAt: 2025-10-13 20:20:57 -0000 (Mon, 13 Oct 2025) EndedAt: 2025-10-13 20:21:15 -0000 (Mon, 13 Oct 2025) EllapsedTime: 18.7 seconds RetCode: 0 Status: OK