Package: BG2 Version: 1.8.0 Command: /home/biocbuild/R/R/bin/R CMD build --keep-empty-dirs --no-resave-data BG2 StartedAt: 2025-10-13 22:59:41 -0000 (Mon, 13 Oct 2025) EndedAt: 2025-10-13 23:17:50 -0000 (Mon, 13 Oct 2025) EllapsedTime: 1089.3 seconds RetCode: 0 Status: OK PackageFile: BG2_1.8.0.tar.gz PackageFileSize: 1.155 MiB