Package: BG2 Version: 1.10.0 Command: /Library/Frameworks/R.framework/Resources/bin/R CMD INSTALL BG2 StartedAt: 2025-10-31 15:09:14 -0400 (Fri, 31 Oct 2025) EndedAt: 2025-10-31 15:09:18 -0400 (Fri, 31 Oct 2025) EllapsedTime: 4.2 seconds RetCode: 0 Status: OK