Package: BG2 Version: 1.10.0 Command: /Library/Frameworks/R.framework/Resources/bin/R CMD build --keep-empty-dirs --no-resave-data BG2 StartedAt: 2025-11-03 15:44:43 -0500 (Mon, 03 Nov 2025) EndedAt: 2025-11-03 15:48:39 -0500 (Mon, 03 Nov 2025) EllapsedTime: 235.7 seconds RetCode: 0 Status: OK PackageFile: BG2_1.10.0.tar.gz PackageFileSize: 1.131 MiB