Package: BG2 Version: 1.10.0 Command: rm -rf BG2.buildbin-libdir && mkdir BG2.buildbin-libdir && /Users/biocbuild/BBS/utils/build-universal.sh BG2_1.10.0.tar.gz /Library/Frameworks/R.framework/Resources/bin/R BG2.buildbin-libdir StartedAt: 2025-11-02 22:57:10 -0500 (Sun, 02 Nov 2025) EndedAt: 2025-11-02 22:57:12 -0500 (Sun, 02 Nov 2025) EllapsedTime: 2.0 seconds RetCode: 0 Status: OK PackageFile: BG2_1.10.0.tgz PackageFileSize: 1.166 MiB