Package: BEclear Version: 2.26.0 Command: /home/biocbuild/bbs-3.22-bioc/R/bin/R CMD INSTALL BEclear StartedAt: 2025-11-14 15:06:27 -0500 (Fri, 14 Nov 2025) EndedAt: 2025-11-14 15:06:42 -0500 (Fri, 14 Nov 2025) EllapsedTime: 14.8 seconds RetCode: 0 Status: OK