Package: BERT Version: 1.4.0 Command: /home/biocbuild/R/R/bin/R CMD INSTALL BERT StartedAt: 2025-10-13 20:43:49 -0000 (Mon, 13 Oct 2025) EndedAt: 2025-10-13 20:43:52 -0000 (Mon, 13 Oct 2025) EllapsedTime: 2.6 seconds RetCode: 0 Status: OK