Package: BERT Version: 1.4.0 Command: /home/biocbuild/R/R/bin/R CMD build --keep-empty-dirs --no-resave-data BERT StartedAt: 2025-10-13 22:57:46 -0000 (Mon, 13 Oct 2025) EndedAt: 2025-10-13 22:58:20 -0000 (Mon, 13 Oct 2025) EllapsedTime: 34.0 seconds RetCode: 0 Status: OK PackageFile: BERT_1.4.0.tar.gz PackageFileSize: 284.3 KiB