Package: BERT Version: 1.6.0 Command: /Library/Frameworks/R.framework/Resources/bin/R CMD build --keep-empty-dirs --no-resave-data BERT StartedAt: 2025-11-02 15:44:31 -0500 (Sun, 02 Nov 2025) EndedAt: 2025-11-02 15:44:42 -0500 (Sun, 02 Nov 2025) EllapsedTime: 11.1 seconds RetCode: 0 Status: OK PackageFile: BERT_1.6.0.tar.gz PackageFileSize: 258.2 KiB