Package: BERT Version: 1.6.0 Command: rm -rf BERT.buildbin-libdir && mkdir BERT.buildbin-libdir && /Users/biocbuild/BBS/utils/build-universal.sh BERT_1.6.0.tar.gz /Library/Frameworks/R.framework/Resources/bin/R BERT.buildbin-libdir StartedAt: 2025-11-02 22:57:09 -0500 (Sun, 02 Nov 2025) EndedAt: 2025-11-02 22:57:11 -0500 (Sun, 02 Nov 2025) EllapsedTime: 2.1 seconds RetCode: 0 Status: OK PackageFile: BERT_1.6.0.tgz PackageFileSize: 324 KiB