Package: BEAT Version: 1.48.0 Command: /home/biocbuild/bbs-3.22-bioc/R/bin/R CMD build --keep-empty-dirs --no-resave-data --md5 BEAT StartedAt: 2025-11-11 16:29:14 -0500 (Tue, 11 Nov 2025) EndedAt: 2025-11-11 16:30:32 -0500 (Tue, 11 Nov 2025) EllapsedTime: 78.0 seconds RetCode: 0 Status: OK PackageFile: BEAT_1.48.0.tar.gz PackageFileSize: 3.293 MiB