Package: BBCAnalyzer Version: 1.40.0 Command: /home/biocbuild/R/R/bin/R CMD INSTALL BBCAnalyzer StartedAt: 2025-11-13 21:49:52 -0000 (Thu, 13 Nov 2025) EndedAt: 2025-11-13 21:50:49 -0000 (Thu, 13 Nov 2025) EllapsedTime: 56.8 seconds RetCode: 0 Status: OK