Package: BBCAnalyzer Version: 1.40.0 Command: /home/biocbuild/R/R/bin/R CMD build --keep-empty-dirs --no-resave-data BBCAnalyzer StartedAt: 2025-11-13 23:45:52 -0000 (Thu, 13 Nov 2025) EndedAt: 2025-11-13 23:55:09 -0000 (Thu, 13 Nov 2025) EllapsedTime: 557.1 seconds RetCode: 0 Status: OK PackageFile: BBCAnalyzer_1.40.0.tar.gz PackageFileSize: 2.194 MiB