Package: BBCAnalyzer Version: 1.40.0 Command: /home/biocbuild/bbs-3.22-bioc/R/bin/R CMD check --install=check:BBCAnalyzer.install-out.txt --library=/home/biocbuild/bbs-3.22-bioc/R/site-library --timings BBCAnalyzer_1.40.0.tar.gz StartedAt: 2025-11-11 21:28:10 -0500 (Tue, 11 Nov 2025) EndedAt: 2025-11-11 21:38:55 -0500 (Tue, 11 Nov 2025) EllapsedTime: 645.4 seconds RetCode: 0 Status: OK CheckDir: BBCAnalyzer.Rcheck Warnings: 0