Package: BBCAnalyzer Version: 1.38.0 Command: /Library/Frameworks/R.framework/Resources/bin/R CMD INSTALL BBCAnalyzer StartedAt: 2025-10-13 16:13:40 -0400 (Mon, 13 Oct 2025) EndedAt: 2025-10-13 16:15:12 -0400 (Mon, 13 Oct 2025) EllapsedTime: 92.0 seconds RetCode: 0 Status: OK