Package: BBCAnalyzer Version: 1.38.0 Command: rm -rf BBCAnalyzer.buildbin-libdir && mkdir BBCAnalyzer.buildbin-libdir && /Users/biocbuild/BBS/utils/build-universal.sh BBCAnalyzer_1.38.0.tar.gz /Library/Frameworks/R.framework/Resources/bin/R BBCAnalyzer.buildbin-libdir StartedAt: 2025-10-14 12:53:16 -0400 (Tue, 14 Oct 2025) EndedAt: 2025-10-14 12:54:53 -0400 (Tue, 14 Oct 2025) EllapsedTime: 97.5 seconds RetCode: 0 Status: OK PackageFile: BBCAnalyzer_1.38.0.tgz PackageFileSize: 2.059 MiB