Package: BASiCStan Version: 1.12.0 Command: /home/biocbuild/bbs-3.22-bioc/R/bin/R CMD INSTALL BASiCStan StartedAt: 2025-11-11 16:01:39 -0500 (Tue, 11 Nov 2025) EndedAt: 2025-11-11 16:06:18 -0500 (Tue, 11 Nov 2025) EllapsedTime: 278.7 seconds RetCode: 0 Status: OK