Package: BASiCStan Version: 1.12.0 Command: /home/biocbuild/bbs-3.22-bioc/R/bin/R CMD check --install=check:BASiCStan.install-out.txt --library=/home/biocbuild/bbs-3.22-bioc/R/site-library --timings BASiCStan_1.12.0.tar.gz StartedAt: 2025-11-11 21:24:23 -0500 (Tue, 11 Nov 2025) EndedAt: 2025-11-11 21:30:10 -0500 (Tue, 11 Nov 2025) EllapsedTime: 346.3 seconds RetCode: 0 Status: OK CheckDir: BASiCStan.Rcheck Warnings: 0