Package: BASiCStan Version: 1.12.0 Command: /home/biocbuild/bbs-3.22-bioc/R/bin/R CMD build --keep-empty-dirs --no-resave-data --md5 BASiCStan StartedAt: 2025-11-11 16:24:56 -0500 (Tue, 11 Nov 2025) EndedAt: 2025-11-11 16:29:53 -0500 (Tue, 11 Nov 2025) EllapsedTime: 297.2 seconds RetCode: 0 Status: OK PackageFile: BASiCStan_1.12.0.tar.gz PackageFileSize: 65.51 KiB