Package: BASiCStan Version: 1.10.0 Command: /home/biocbuild/bbs-3.21-bioc/R/bin/R CMD INSTALL BASiCStan StartedAt: 2025-10-15 15:56:01 -0400 (Wed, 15 Oct 2025) EndedAt: 2025-10-15 16:00:34 -0400 (Wed, 15 Oct 2025) EllapsedTime: 273.4 seconds RetCode: 0 Status: OK