Package: BASiCStan Version: 1.10.0 Command: /home/biocbuild/bbs-3.21-bioc/R/bin/R CMD build --keep-empty-dirs --no-resave-data BASiCStan StartedAt: 2025-10-15 16:16:44 -0400 (Wed, 15 Oct 2025) EndedAt: 2025-10-15 16:21:52 -0400 (Wed, 15 Oct 2025) EllapsedTime: 308.2 seconds RetCode: 0 Status: OK PackageFile: BASiCStan_1.10.0.tar.gz PackageFileSize: 64.61 KiB