Package: BASiCStan Version: 1.10.0 Command: /home/biocbuild/R/R/bin/R CMD INSTALL BASiCStan StartedAt: 2025-09-29 21:12:25 -0000 (Mon, 29 Sep 2025) EndedAt: 2025-09-29 21:19:35 -0000 (Mon, 29 Sep 2025) EllapsedTime: 430.8 seconds RetCode: 0 Status: OK